BEGIN:VCALENDAR
VERSION:2.0
PRODID:-//gruene-kandel.de Events Calendar//gruene-kandel.de//
BEGIN:VEVENT
SUMMARY:Montagstreff
DTSTART:20260223T190000Z
DTEND:20260223T190000Z
DTSTAMP:20260223T190000Z
UID:185.event.events.de.gruene-kandel
END:VEVENT
END:VCALENDAR
