BEGIN:VCALENDAR
VERSION:2.0
PRODID:-//gruene-kandel.de Events Calendar//gruene-kandel.de//
BEGIN:VEVENT
SUMMARY:Montagstreff / öffentliche Fraktionssitzung
DTSTART:20250407T180000Z
DTEND:20250407T180000Z
DTSTAMP:20250407T180000Z
UID:120.event.events.de.gruene-kandel
END:VEVENT
END:VCALENDAR
