BEGIN:VCALENDAR
VERSION:2.0
PRODID:-//gruene-kandel.de Events Calendar//gruene-kandel.de//
BEGIN:VEVENT
SUMMARY:Montagstreff mit Direktkandidatin Britta Horn
DTSTART:20251110T190000Z
DTEND:20251110T190000Z
DTSTAMP:20251110T190000Z
UID:148.event.events.de.gruene-kandel
END:VEVENT
END:VCALENDAR
