BEGIN:VCALENDAR
VERSION:2.0
PRODID:-//gruene-kandel.de Events Calendar//gruene-kandel.de//
BEGIN:VEVENT
SUMMARY:Informationsabend der Bürger-Energiegenossenschaft Südpfalz eG
DTSTART:20251118T180000Z
DTEND:20251118T180000Z
DTSTAMP:20251118T180000Z
UID:157.event.events.de.gruene-kandel
END:VEVENT
END:VCALENDAR
