BEGIN:VCALENDAR
VERSION:2.0
PRODID:-//gruene-kandel.de Events Calendar//gruene-kandel.de//
BEGIN:VEVENT
SUMMARY:Stadtradeln 2026
DTSTART:20260430T220000Z
DTEND:20260521T160000Z
DTSTAMP:20260521T160000Z
UID:194.event.events.de.gruene-kandel
END:VEVENT
END:VCALENDAR
